BEGIN:VCALENDAR
VERSION:2.0
PRODID:-//Shikamoo - ECPv5.3.1//NONSGML v1.0//EN
CALSCALE:GREGORIAN
METHOD:PUBLISH
X-WR-CALNAME:Shikamoo
X-ORIGINAL-URL:http://shikamoojust.org
X-WR-CALDESC:Esdeveniments per Shikamoo
BEGIN:VTIMEZONE
TZID:UTC
BEGIN:STANDARD
TZOFFSETFROM:+0000
TZOFFSETTO:+0000
TZNAME:UTC
DTSTART:20230101T000000
END:STANDARD
END:VTIMEZONE
BEGIN:VEVENT
DTSTART;TZID=UTC:20230323T173000
DTEND;TZID=UTC:20230323T183000
DTSTAMP:20260416T135551
CREATED:20230125T101748Z
LAST-MODIFIED:20230125T101845Z
UID:3547-1679592600-1679596200@shikamoojust.org
SUMMARY:Tast de cacau amb Alternativa 3
DESCRIPTION:Alternativa 3\, juntament amb una persona de la productora de comerç just\, faran un petit col·loqui per acompanyar un deliciós tast de cacau i compartirem tots un horabaixa molt dolç. Activitat gratuïta amb reserva prèvia per email: shikamoojust@gmail.com o per whatsApp: 601 906 404.
URL:http://shikamoojust.org/event/tast-de-cacau-amb-alternativa-3/
LOCATION:Shikamoo\, Carrer de Sa Font\, 5\, Llucmajor\, Illes Balears\, 07620\, Espanya
END:VEVENT
END:VCALENDAR