BEGIN:VCALENDAR
VERSION:2.0
PRODID:-//Shikamoo - ECPv5.3.1//NONSGML v1.0//EN
CALSCALE:GREGORIAN
METHOD:PUBLISH
X-WR-CALNAME:Shikamoo
X-ORIGINAL-URL:http://shikamoojust.org
X-WR-CALDESC:Esdeveniments per Shikamoo
BEGIN:VTIMEZONE
TZID:UTC
BEGIN:STANDARD
TZOFFSETFROM:+0000
TZOFFSETTO:+0000
TZNAME:UTC
DTSTART:20210101T000000
END:STANDARD
END:VTIMEZONE
BEGIN:VEVENT
DTSTART;TZID=UTC:20210710T110000
DTEND;TZID=UTC:20210710T233000
DTSTAMP:20260425T035015
CREATED:20210514T093628Z
LAST-MODIFIED:20210514T093955Z
UID:1177-1625914800-1625959800@shikamoojust.org
SUMMARY:Contacontes "La petita caputxeta africana"
DESCRIPTION:  \n \nShikamoo i la biblioteca de s’Arenal ofereixen el tercer dels contes del cicle “Tres contes per canviar el món”: LA PETITA CAPUTXETA AFRICANA \nPlaces limitades\, fes la teva reserva enviant un e-mail a: shikamoojust@gmail.com
URL:http://shikamoojust.org/event/contacontes-la-petita-caputxeta-africana-3/
LOCATION:Parc Joan Ferrer de S’Arenal\, s'Arenal\, Balears\, Espanya
ORGANIZER;CN="Shikamoo":MAILTO:shikamoo.llucmajo@gmail.com
END:VEVENT
BEGIN:VEVENT
DTSTART;TZID=UTC:20210730T193000
DTEND;TZID=UTC:20210730T203000
DTSTAMP:20260425T035015
CREATED:20210514T094825Z
LAST-MODIFIED:20210514T094825Z
UID:1185-1627673400-1627677000@shikamoojust.org
SUMMARY:Microteatre amb Ovnipresents
DESCRIPTION:Microteatre amb Ovnipresents
URL:http://shikamoojust.org/event/microteatre-amb-ovnipresents/
LOCATION:Claustre de Sant Bonaventura\, Llucmajor\, Balears\, 07620\, Espanya
ORGANIZER;CN="Shikamoo":MAILTO:shikamoo.llucmajo@gmail.com
END:VEVENT
END:VCALENDAR