BEGIN:VCALENDAR
VERSION:2.0
PRODID:-//Shikamoo - ECPv5.3.1//NONSGML v1.0//EN
CALSCALE:GREGORIAN
METHOD:PUBLISH
X-WR-CALNAME:Shikamoo
X-ORIGINAL-URL:http://shikamoojust.org
X-WR-CALDESC:Esdeveniments per Shikamoo
BEGIN:VTIMEZONE
TZID:UTC
BEGIN:STANDARD
TZOFFSETFROM:+0000
TZOFFSETTO:+0000
TZNAME:UTC
DTSTART:20220101T000000
END:STANDARD
END:VTIMEZONE
BEGIN:VEVENT
DTSTART;TZID=UTC:20220225T180000
DTEND;TZID=UTC:20220225T190000
DTSTAMP:20260420T121803
CREATED:20220113T144835Z
LAST-MODIFIED:20220113T144835Z
UID:2107-1645812000-1645815600@shikamoojust.org
SUMMARY:Centimets Teatre - "Unes ulleres màgiques"
DESCRIPTION:…si te les poses veuràs que no tot és del color que sembla. Una actuació per a tots els públics a càrrec de Centiments Teatre.
URL:http://shikamoojust.org/event/centimets-teatre-unes-ulleres-magiques/
LOCATION:Claustre de Sant Bonaventura\, Llucmajor\, Balears\, 07620\, Espanya
ORGANIZER;CN="Shikamoo":MAILTO:shikamoo.llucmajo@gmail.com
END:VEVENT
END:VCALENDAR