BEGIN:VCALENDAR
VERSION:2.0
PRODID:-//Shikamoo - ECPv5.3.1//NONSGML v1.0//EN
CALSCALE:GREGORIAN
METHOD:PUBLISH
X-WR-CALNAME:Shikamoo
X-ORIGINAL-URL:http://shikamoojust.org
X-WR-CALDESC:Esdeveniments per Shikamoo
BEGIN:VTIMEZONE
TZID:UTC
BEGIN:STANDARD
TZOFFSETFROM:+0000
TZOFFSETTO:+0000
TZNAME:UTC
DTSTART:20220101T000000
END:STANDARD
END:VTIMEZONE
BEGIN:VEVENT
DTSTART;TZID=UTC:20220325T180000
DTEND;TZID=UTC:20220325T180000
DTSTAMP:20260424T164002
CREATED:20220216T084545Z
LAST-MODIFIED:20220216T084545Z
UID:2716-1648231200-1648231200@shikamoojust.org
SUMMARY:La fada despistada
DESCRIPTION:Una actuació per a tots els públics en motiu del dia de la Dona.
URL:http://shikamoojust.org/event/la-fada-despistada/
LOCATION:Claustre de Sant Bonaventura\, Llucmajor\, Balears\, 07620\, Espanya
ORGANIZER;CN="Shikamoo":MAILTO:shikamoo.llucmajo@gmail.com
END:VEVENT
END:VCALENDAR