BEGIN:VCALENDAR
VERSION:2.0
PRODID:-//Shikamoo - ECPv5.3.1//NONSGML v1.0//EN
CALSCALE:GREGORIAN
METHOD:PUBLISH
X-WR-CALNAME:Shikamoo
X-ORIGINAL-URL:http://shikamoojust.org
X-WR-CALDESC:Esdeveniments per Shikamoo
BEGIN:VTIMEZONE
TZID:UTC
BEGIN:STANDARD
TZOFFSETFROM:+0000
TZOFFSETTO:+0000
TZNAME:UTC
DTSTART:20220101T000000
END:STANDARD
END:VTIMEZONE
BEGIN:VEVENT
DTSTART;TZID=UTC:20221006T163000
DTEND;TZID=UTC:20221006T173000
DTSTAMP:20260424T045624
CREATED:20220914T100521Z
LAST-MODIFIED:20220914T100521Z
UID:2981-1665073800-1665077400@shikamoojust.org
SUMMARY:Contes per canviar el món
DESCRIPTION:Contacontes i ludoteca a càrrec de Shikamoo. \nInscripcions a shikamoojust@gmail.com o per whatsApp al 601 90 64 04
URL:http://shikamoojust.org/event/contes-per-canviar-el-mon-2/
LOCATION:Biblioteca de Campos\, C. de la Síquia\, s/n\, Campos\, Balears\, 07630\, Espanya
ORGANIZER;CN="Shikamoo":MAILTO:shikamoo.llucmajo@gmail.com
END:VEVENT
BEGIN:VEVENT
DTSTART;TZID=UTC:20221011T173000
DTEND;TZID=UTC:20221011T183000
DTSTAMP:20260424T045624
CREATED:20220914T101254Z
LAST-MODIFIED:20220914T101408Z
UID:2984-1665509400-1665513000@shikamoojust.org
SUMMARY:Tast de cafès de comerç just
DESCRIPTION:Tast de cafès de comerç just a càrrec d’Alternativa 3. \nInscripcions a shikamoojust@gmail.com o per whatsApp al 601 90 64 04.
URL:http://shikamoojust.org/event/tast-de-cafes-de-comerc-just/
LOCATION:Shikamoo\, Carrer de Sa Font\, 5\, Llucmajor\, Illes Balears\, 07620\, Espanya
END:VEVENT
END:VCALENDAR