BEGIN:VCALENDAR
VERSION:2.0
PRODID:-//Shikamoo - ECPv5.3.1//NONSGML v1.0//EN
CALSCALE:GREGORIAN
METHOD:PUBLISH
X-WR-CALNAME:Shikamoo
X-ORIGINAL-URL:http://shikamoojust.org
X-WR-CALDESC:Esdeveniments per Shikamoo
BEGIN:VTIMEZONE
TZID:UTC
BEGIN:STANDARD
TZOFFSETFROM:+0000
TZOFFSETTO:+0000
TZNAME:UTC
DTSTART:20230101T000000
END:STANDARD
END:VTIMEZONE
BEGIN:VEVENT
DTSTART;TZID=UTC:20230503T163000
DTEND;TZID=UTC:20230503T173000
DTSTAMP:20260418T114248
CREATED:20230424T111433Z
LAST-MODIFIED:20230424T111433Z
UID:3556-1683131400-1683135000@shikamoojust.org
SUMMARY:Això NO és just!
DESCRIPTION:Contacontes del nou conte de Shikamoo.
URL:http://shikamoojust.org/event/aixo-no-es-just/
LOCATION:Biblioteca de Sant Jordi\, Calle Paúl Bouvy\, 31\, Palma\, Espanya
END:VEVENT
BEGIN:VEVENT
DTSTART;VALUE=DATE:20230531
DTEND;VALUE=DATE:20230601
DTSTAMP:20260418T114248
CREATED:20221025T122142Z
LAST-MODIFIED:20221025T122227Z
UID:3320-1685491200-1685577599@shikamoojust.org
SUMMARY:Campanya #SomFeministesSomComerçJust
DESCRIPTION:Participa publicant al hashtag #SomFeministesSomComerçJust accions diverses\, realitzades tant a nivell personal com de centre\, relacionades amb el feminisme i el consum responsable.
URL:http://shikamoojust.org/event/campanya-somfeministessomcomercjust/
LOCATION:Illes Balears
ATTACH;FMTTYPE=image/jpeg:http://shikamoojust.org/wp-content/uploads/2022/10/cartellSomFeministesComercjust-1-scaled.jpg
END:VEVENT
END:VCALENDAR