BEGIN:VCALENDAR
VERSION:2.0
PRODID:-//Shikamoo - ECPv5.3.1//NONSGML v1.0//EN
CALSCALE:GREGORIAN
METHOD:PUBLISH
X-WR-CALNAME:Shikamoo
X-ORIGINAL-URL:http://shikamoojust.org
X-WR-CALDESC:Esdeveniments per Shikamoo
BEGIN:VTIMEZONE
TZID:UTC
BEGIN:STANDARD
TZOFFSETFROM:+0000
TZOFFSETTO:+0000
TZNAME:UTC
DTSTART:20240101T000000
END:STANDARD
END:VTIMEZONE
BEGIN:VEVENT
DTSTART;TZID=UTC:20240228T083000
DTEND;TZID=UTC:20240228T193000
DTSTAMP:20260421T083648
CREATED:20240214T110125Z
LAST-MODIFIED:20240214T110338Z
UID:4280-1709109000-1709148600@shikamoojust.org
SUMMARY:TOCAR TERRA
DESCRIPTION:Intercanvi de roba i xerrada sobre els l’impacte medi ambiental i social causat per la moda ràpida (fast-fashion). \nAmb la col·laboració de arabalears.
URL:http://shikamoojust.org/event/tocar-terra/
LOCATION:Shikamoo\, Carrer de Sa Font\, 5\, Llucmajor\, Illes Balears\, 07620\, Espanya
END:VEVENT
BEGIN:VEVENT
DTSTART;TZID=UTC:20240315T180000
DTEND;TZID=UTC:20240315T190000
DTSTAMP:20260421T083648
CREATED:20240307T204925Z
LAST-MODIFIED:20240307T204925Z
UID:4286-1710525600-1710529200@shikamoojust.org
SUMMARY:Horabaixa de contes transformadors
DESCRIPTION:Ens retrobarem amb els personatges s’Això no és just\, per passar un horabaixa ben entretengut. Vos hi esperam!!! \nEntrada gratuïta amb inscripció a shikamoojust@gmail.com o per whatsApp al 601906404.
URL:http://shikamoojust.org/event/horabaixa-de-contes-transformadors/
LOCATION:Claustre de Sant Bonaventura\, Llucmajor\, Balears\, 07620\, Espanya
ORGANIZER;CN="Shikamoo":MAILTO:shikamoo.llucmajo@gmail.com
END:VEVENT
END:VCALENDAR