BEGIN:VCALENDAR
VERSION:2.0
PRODID:-//Shikamoo - ECPv5.3.1//NONSGML v1.0//EN
CALSCALE:GREGORIAN
METHOD:PUBLISH
X-WR-CALNAME:Shikamoo
X-ORIGINAL-URL:https://shikamoojust.org
X-WR-CALDESC:Esdeveniments per Shikamoo
BEGIN:VTIMEZONE
TZID:UTC
BEGIN:STANDARD
TZOFFSETFROM:+0000
TZOFFSETTO:+0000
TZNAME:UTC
DTSTART:20210101T000000
END:STANDARD
END:VTIMEZONE
BEGIN:VEVENT
DTSTART;TZID=UTC:20210419T050000
DTEND;TZID=UTC:20210419T173000
DTSTAMP:20260419T040220
CREATED:20210412T120004Z
LAST-MODIFIED:20210412T120128Z
UID:1124-1618808400-1618853400@shikamoojust.org
SUMMARY:Contacontes "Haki la papallona màgica"
DESCRIPTION:  \n \nEl segon dels tres contacontes del cicle “Tres contes per canviar el món” \nPlaces limitades\, fes la teva reserva al 971 120 695 o envia un e-mail a: shikamoo.llucmajor@gmail.com
URL:https://shikamoojust.org/event/contacontes-haki-la-ppallona-magica/
LOCATION:Biblioteca de Campos\, C. de la Síquia\, s/n\, Campos\, Balears\, 07630\, Espanya
END:VEVENT
END:VCALENDAR